BEGIN:VCALENDAR
VERSION:2.0
PRODID:-//Trinity United Church - ECPv6.15.20//NONSGML v1.0//EN
CALSCALE:GREGORIAN
METHOD:PUBLISH
X-ORIGINAL-URL:https://trinityunitedportage.ca
X-WR-CALDESC:Events for Trinity United Church
REFRESH-INTERVAL;VALUE=DURATION:PT1H
X-Robots-Tag:noindex
X-PUBLISHED-TTL:PT1H
BEGIN:VTIMEZONE
TZID:America/Winnipeg
BEGIN:DAYLIGHT
TZOFFSETFROM:-0600
TZOFFSETTO:-0500
TZNAME:CDT
DTSTART:20220313T080000
END:DAYLIGHT
BEGIN:STANDARD
TZOFFSETFROM:-0500
TZOFFSETTO:-0600
TZNAME:CST
DTSTART:20221106T070000
END:STANDARD
BEGIN:DAYLIGHT
TZOFFSETFROM:-0600
TZOFFSETTO:-0500
TZNAME:CDT
DTSTART:20230312T080000
END:DAYLIGHT
BEGIN:STANDARD
TZOFFSETFROM:-0500
TZOFFSETTO:-0600
TZNAME:CST
DTSTART:20231105T070000
END:STANDARD
BEGIN:DAYLIGHT
TZOFFSETFROM:-0600
TZOFFSETTO:-0500
TZNAME:CDT
DTSTART:20240310T080000
END:DAYLIGHT
BEGIN:STANDARD
TZOFFSETFROM:-0500
TZOFFSETTO:-0600
TZNAME:CST
DTSTART:20241103T070000
END:STANDARD
BEGIN:DAYLIGHT
TZOFFSETFROM:-0600
TZOFFSETTO:-0500
TZNAME:CDT
DTSTART:20250309T080000
END:DAYLIGHT
BEGIN:STANDARD
TZOFFSETFROM:-0500
TZOFFSETTO:-0600
TZNAME:CST
DTSTART:20251102T070000
END:STANDARD
BEGIN:DAYLIGHT
TZOFFSETFROM:-0600
TZOFFSETTO:-0500
TZNAME:CDT
DTSTART:20260308T080000
END:DAYLIGHT
BEGIN:STANDARD
TZOFFSETFROM:-0500
TZOFFSETTO:-0600
TZNAME:CST
DTSTART:20261101T070000
END:STANDARD
END:VTIMEZONE
BEGIN:VEVENT
DTSTART;TZID=America/Winnipeg:20230203T140000
DTEND;TZID=America/Winnipeg:20230203T160000
DTSTAMP:20260419T081338
CREATED:20230117T213425Z
LAST-MODIFIED:20230117T213425Z
UID:3529-1675432800-1675440000@trinityunitedportage.ca
SUMMARY:Service for Dennis McMillan
DESCRIPTION:A memorial service for Dennis McMillan will take place on Friday\, February 3\, 2023 at 2:00 at Trinity United Church in Portage la Prairie\, MB.  The service will be live streamed\, click on the link to view the service https://us02web.zoom.us/j/6460700716?pwd=SW9RZDBYVTRpekc0ZWFhWkZ3bXN4Zz09
URL:https://trinityunitedportage.ca/event/service-for-dennis-mcmillan/
LOCATION:Trinity United Chuch\, 15 Tupper St. S\,\, Portage la Prairie\, Manitoba\, R1N 1W7\, Canada
END:VEVENT
BEGIN:VEVENT
DTSTART;TZID=America/Winnipeg:20230211T140000
DTEND;TZID=America/Winnipeg:20230211T153000
DTSTAMP:20260419T081338
CREATED:20230207T220145Z
LAST-MODIFIED:20230207T221345Z
UID:3543-1676124000-1676129400@trinityunitedportage.ca
SUMMARY:Funeral Service for John Walsh
DESCRIPTION:Viewing and visitation will take place at McKenzies Portage Funeral Chapel on Thursday\, February 9\, 2023 from 7 pm to 8 pm.  A celebration of John’s Life will be held at Trinity United Church on Saturday\, February 11\, 2023 at 2:00 pm\, led by Wilma Shirriff. \n  \n  \n  \n 
URL:https://trinityunitedportage.ca/event/funeral-service-for-john-walsh/
LOCATION:Trinity United Chuch\, 15 Tupper St. S\,\, Portage la Prairie\, Manitoba\, R1N 1W7\, Canada
END:VEVENT
BEGIN:VEVENT
DTSTART;TZID=America/Winnipeg:20230325T140000
DTEND;TZID=America/Winnipeg:20230325T160000
DTSTAMP:20260419T081338
CREATED:20230321T201859Z
LAST-MODIFIED:20230321T202302Z
UID:3595-1679752800-1679760000@trinityunitedportage.ca
SUMMARY:Celebration of Life for Albert Patenaude
DESCRIPTION:Albert’s celebration of life will be held on Saturday\, March 25\, at 2:00 p.m. at Trinity United Church in Portage la Prairie (15 Tupper St. South)\, led by Wilma Shirriff. The service will be live streamed\, see link on McKenzie’s website\, below. Interment will take place at Evergreen Memorial Gardens. \nhttps://www.mckenziesportagefuneralchapel.com/obituaries/albert-patenaude \n 
URL:https://trinityunitedportage.ca/event/celebration-of-life-for-albert-patenaude/
LOCATION:Trinity United Chuch\, 15 Tupper St. S\,\, Portage la Prairie\, Manitoba\, R1N 1W7\, Canada
END:VEVENT
BEGIN:VEVENT
DTSTART;TZID=America/Winnipeg:20230404T130000
DTEND;TZID=America/Winnipeg:20230404T150000
DTSTAMP:20260419T081338
CREATED:20230321T202934Z
LAST-MODIFIED:20230321T203009Z
UID:3604-1680613200-1680620400@trinityunitedportage.ca
SUMMARY:Funeral Service for Jennifer Baker
DESCRIPTION:A funeral service for Jennifer will be held on Tuesday April 4 at 1:00 p.m. at Trinity United Church\, 15 Tupper St. S. Portage la Prairie. The service will be live streamed\, see link below. \nhttps://www.mckenziesportagefuneralchapel.com/obituaries/jennifer-baker
URL:https://trinityunitedportage.ca/event/funeral-service-for-jennifer-baker/
LOCATION:Trinity United Chuch\, 15 Tupper St. S\,\, Portage la Prairie\, Manitoba\, R1N 1W7\, Canada
END:VEVENT
BEGIN:VEVENT
DTSTART;TZID=America/Winnipeg:20230527T120000
DTEND;TZID=America/Winnipeg:20230527T170000
DTSTAMP:20260419T081338
CREATED:20230509T211030Z
LAST-MODIFIED:20230509T211135Z
UID:3642-1685188800-1685206800@trinityunitedportage.ca
SUMMARY:Pride Parade Reception
DESCRIPTION:Join us at Trinity United Church for refreshments immediately after the Pride Parade
URL:https://trinityunitedportage.ca/event/pride-parade-reception/
LOCATION:Trinity United Chuch\, 15 Tupper St. S\,\, Portage la Prairie\, Manitoba\, R1N 1W7\, Canada
END:VEVENT
BEGIN:VEVENT
DTSTART;TZID=America/Winnipeg:20230611T113000
DTEND;TZID=America/Winnipeg:20230611T123000
DTSTAMP:20260419T081338
CREATED:20230523T163916Z
LAST-MODIFIED:20230523T163916Z
UID:3660-1686483000-1686486600@trinityunitedportage.ca
SUMMARY:You are Invited to Celebrate Barb Jones
DESCRIPTION:Please join us for a special celebration to mark Barb’s 90th birthday. \n11:30 a.m. – 12:30 a.m. Coffee\, tea and dessert. \nJoin us for the church service\, too\, if you wish\, starting at 10:30 a.m. \nNo gifts please.  If you wish\, a donation can be made to the Doug Jones Fund for Literacy at the Portage Foundation.
URL:https://trinityunitedportage.ca/event/you-are-invited-to-celebrate-barb-jones/
LOCATION:Trinity United Chuch\, 15 Tupper St. S\,\, Portage la Prairie\, Manitoba\, R1N 1W7\, Canada
END:VEVENT
BEGIN:VEVENT
DTSTART;TZID=America/Winnipeg:20231028T130000
DTEND;TZID=America/Winnipeg:20231028T150000
DTSTAMP:20260419T081338
CREATED:20231025T192948Z
LAST-MODIFIED:20231025T193012Z
UID:3758-1698498000-1698505200@trinityunitedportage.ca
SUMMARY:Celebration of Life for Art & Mary Klassen
DESCRIPTION:Celebration of Life for Art and Mary Klassen will be held at Trinity United Church on Saturday\, October 28\, 2023 at 1:00 pm\, led by Wilma Shirriff.  Interment will take place at Rosenfeld Village and District Community Cemetery.  The service will be livestreamed. Click the link below. \nhttps://us02web.zoom.us/j/6460700716?pwd=SW9RZDBYVTRpekc0ZWFhWkZ3bXN4Zz09
URL:https://trinityunitedportage.ca/event/celebration-of-life-for-art-mary-klassen/
LOCATION:Trinity United Church\, 15 Tupper Street South\, Portage La Prairie\, MB\, R1N 1W7\, Canada
END:VEVENT
BEGIN:VEVENT
DTSTART;TZID=America/Winnipeg:20231103T190000
DTEND;TZID=America/Winnipeg:20231103T210000
DTSTAMP:20260419T081338
CREATED:20231027T195547Z
LAST-MODIFIED:20231027T195547Z
UID:3764-1699038000-1699045200@trinityunitedportage.ca
SUMMARY:Danny Carroll  Keys for Transformation  Concert Tour – Solo
DESCRIPTION:with special Portage la Prairie guest performers Ava Smith on Viola and Logan Smith on Cello \nDanny’s innovative music provides a relaxing and melodic sound experience that will help connect you to your heart\, and resonate with your personal journey of transformation. This concert is a unique mix of grand piano melodies and electronic soundscapes. Interwoven throughout the music are Danny’s insightful thoughts and humorous stories from his life’s journey towards transformation.  Listen to the album on Danny’s website: www.dannycarroll.ca \nTickets can be purchased online https://www.showpass.com/danny-carroll-keys-for-transformation-portage-la-prairie \n$23 (plus fees/GST) or $27 at the door \nPart of the proceeds will be donated to Harvest Manitoba
URL:https://trinityunitedportage.ca/event/danny-carroll-keys-for-transformation-concert-tour-solo/
LOCATION:Trinity United Church\, 15 Tupper Street South\, Portage La Prairie\, MB\, R1N 1W7\, Canada
END:VEVENT
BEGIN:VEVENT
DTSTART;TZID=America/Winnipeg:20240307T133000
DTEND;TZID=America/Winnipeg:20240307T143000
DTSTAMP:20260419T081338
CREATED:20240304T153354Z
LAST-MODIFIED:20240304T160703Z
UID:3874-1709818200-1709821800@trinityunitedportage.ca
SUMMARY:Memorial Service for Marg Scott
DESCRIPTION:A memorial service will be held at Trinity United Church on Thursday\, March 7\, 2024 at 1:30 pm.  The service will be livestreamed by zoom and recorded\, to view service go to Marg’s obituary page at www.mckenziesportagefuneralchapel.com
URL:https://trinityunitedportage.ca/event/memorial-service-for-marg-scott/
LOCATION:Trinity United Church\, 15 Tupper Street South\, Portage La Prairie\, MB\, R1N 1W7\, Canada
END:VEVENT
BEGIN:VEVENT
DTSTART;TZID=America/Winnipeg:20240716T140000
DTEND;TZID=America/Winnipeg:20240716T150000
DTSTAMP:20260419T081338
CREATED:20240712T164637Z
LAST-MODIFIED:20240712T164651Z
UID:4004-1721138400-1721142000@trinityunitedportage.ca
SUMMARY:Celebration of Life for Marlene Coltart
DESCRIPTION:A celebration of Marlene life will take place at Trinity United Church on Tuesday\, July 16\, 2024 at 2:00 pm\, led by Rev. Julie Baker and Rev. Elijah Mwandila. A private family interment will take place at West Prospect Cemetery. The service will be recorded and available to view on Marlene’s obituary page the following day.
URL:https://trinityunitedportage.ca/event/celebration-of-life-for-marlene-coltart/
LOCATION:Trinity United Church\, 15 Tupper Street South\, Portage La Prairie\, MB\, R1N 1W7\, Canada
END:VEVENT
BEGIN:VEVENT
DTSTART;TZID=America/Winnipeg:20240928T103000
DTEND;TZID=America/Winnipeg:20240928T113000
DTSTAMP:20260419T081338
CREATED:20240924T213314Z
LAST-MODIFIED:20240924T213354Z
UID:4033-1727519400-1727523000@trinityunitedportage.ca
SUMMARY:Memorial Service for Sheldon Hiltz
DESCRIPTION:A memorial service will be held on Saturday\, September 28\, 2024\, at Trinity United Church at 10:30 am. Interment will be held at a later date.
URL:https://trinityunitedportage.ca/event/memorial-service-for-sheldon-hiltz/
LOCATION:Trinity United Church\, 15 Tupper Street South\, Portage La Prairie\, MB\, R1N 1W7\, Canada
END:VEVENT
BEGIN:VEVENT
DTSTART;TZID=America/Winnipeg:20241107T130000
DTEND;TZID=America/Winnipeg:20241107T150000
DTSTAMP:20260419T081338
CREATED:20241106T155432Z
LAST-MODIFIED:20241106T155432Z
UID:4062-1730984400-1730991600@trinityunitedportage.ca
SUMMARY:Celebration of Life for Steve Bergson
DESCRIPTION:
URL:https://trinityunitedportage.ca/event/celebration-of-life-for-steve-bergson/
LOCATION:Trinity United Church\, 15 Tupper Street South\, Portage La Prairie\, MB\, R1N 1W7\, Canada
END:VEVENT
BEGIN:VEVENT
DTSTART;TZID=America/Winnipeg:20250228T130000
DTEND;TZID=America/Winnipeg:20250228T140000
DTSTAMP:20260419T081338
CREATED:20250214T194809Z
LAST-MODIFIED:20250214T194824Z
UID:4148-1740747600-1740751200@trinityunitedportage.ca
SUMMARY:Memorial Service for Jean Harkness
DESCRIPTION:A Memorial Service for Jean Harkness will be held at Trinity United Church on Friday\, February 28\, 2025\, at 1:00 pm. Private family interment will take place at Beaver Creek Cemetery at a later date.
URL:https://trinityunitedportage.ca/event/memorial-service-for-jean-harkness/
LOCATION:Trinity United Church\, 15 Tupper Street South\, Portage La Prairie\, MB\, R1N 1W7\, Canada
END:VEVENT
BEGIN:VEVENT
DTSTART;TZID=America/Winnipeg:20250524T133000
DTEND;TZID=America/Winnipeg:20250524T150000
DTSTAMP:20260419T081338
CREATED:20250521T203008Z
LAST-MODIFIED:20250521T203041Z
UID:4254-1748093400-1748098800@trinityunitedportage.ca
SUMMARY:Celebration of Life for Waind MacDonald
DESCRIPTION:A celebration of Waind’s life will be held on Saturday\, May 24\, 2025 at 1:30 pm at Trinity United Church\, led by Rev. Julie Baker. Interment will take place at Hillside Cemetery. The service will be livestreamed\, to register and view the service\, please go directly to McKenzie’s website.
URL:https://trinityunitedportage.ca/event/celebration-of-life-for-waind-macdonald/
LOCATION:Trinity United Church\, 15 Tupper Street South\, Portage La Prairie\, MB\, R1N 1W7\, Canada
END:VEVENT
BEGIN:VEVENT
DTSTART;TZID=America/Winnipeg:20250627T130000
DTEND;TZID=America/Winnipeg:20250627T140000
DTSTAMP:20260419T081338
CREATED:20250625T162709Z
LAST-MODIFIED:20250625T162719Z
UID:4279-1751029200-1751032800@trinityunitedportage.ca
SUMMARY:Funeral Service for Jim Pehura
DESCRIPTION:Funeral service will be held on Friday\, June 27\, 2025 at Trinity United Church at 1:00 pm. Private family interment will be held at Evergreen Memorial Gardens Columbarium. The service will be livestreamed and may be viewed by registering at McKenzie’s website. \nJames Wallace Pehura Obituary June 22\, 2025 – McKenzies Portage Funeral Chapel
URL:https://trinityunitedportage.ca/event/funeral-service-for-jim-pehura/
LOCATION:Trinity United Church\, 15 Tupper Street South\, Portage La Prairie\, MB\, R1N 1W7\, Canada
END:VEVENT
BEGIN:VEVENT
DTSTART;TZID=America/Winnipeg:20250704T140000
DTEND;TZID=America/Winnipeg:20250704T150000
DTSTAMP:20260419T081338
CREATED:20250703T191658Z
LAST-MODIFIED:20250703T191814Z
UID:4287-1751637600-1751641200@trinityunitedportage.ca
SUMMARY:Celebration of Life for Karen Conrod
DESCRIPTION:Celebration of Life Service will take place at Trinity United Church in Portage la Prairie on Friday\, July 4 at 2:00 PM. Private family interment will take place at a later date. The service will be livestreamed and may be viewed by registering at: \nKaren Lynn Conrod Obituary June 26\, 2025 – McKenzies Portage Funeral Chapel \n  \n 
URL:https://trinityunitedportage.ca/event/celebration-of-life-for-karen-conrod/
LOCATION:Trinity United Church\, 15 Tupper Street South\, Portage La Prairie\, MB\, R1N 1W7\, Canada
END:VEVENT
BEGIN:VEVENT
DTSTART;TZID=America/Winnipeg:20250826T140000
DTEND;TZID=America/Winnipeg:20250826T150000
DTSTAMP:20260419T081338
CREATED:20250826T150829Z
LAST-MODIFIED:20250826T150829Z
UID:4321-1756216800-1756220400@trinityunitedportage.ca
SUMMARY:Celebration of Life for Lynn Switzer
DESCRIPTION:Please join us to celebrate the life of Lynn Switzer on Tuesday\, August 26\, 2025\, starting at 2:00 pm at the Trinity United Church in Portage la Prairie\, Manitoba.
URL:https://trinityunitedportage.ca/event/celebration-of-life-for-lynn-switzer/
LOCATION:Trinity United Church\, 15 Tupper Street South\, Portage La Prairie\, MB\, R1N 1W7\, Canada
END:VEVENT
BEGIN:VEVENT
DTSTART;TZID=America/Winnipeg:20251004T133000
DTEND;TZID=America/Winnipeg:20251004T150000
DTSTAMP:20260419T081338
CREATED:20251002T144458Z
LAST-MODIFIED:20251002T144458Z
UID:4351-1759584600-1759590000@trinityunitedportage.ca
SUMMARY:Funeral Service for Barbara Bradley
DESCRIPTION:A funeral service will be held on Saturday\, October 4\, 2025 at 1:30 pm at Trinity United Church led by Rev. Julie Baker. A private family interment will take place at Prospect cemetery. The service will be livestreamed.  Register on McKenzie’s website.
URL:https://trinityunitedportage.ca/event/funeral-service-for-barbara-bradley/
LOCATION:Trinity United Church\, 15 Tupper Street South\, Portage La Prairie\, MB\, R1N 1W7\, Canada
END:VEVENT
END:VCALENDAR